BEGIN:VCALENDAR
VERSION:2.0
PRODID:-//The Villager - ECPv6.15.20//NONSGML v1.0//EN
CALSCALE:GREGORIAN
METHOD:PUBLISH
X-WR-CALNAME:The Villager
X-ORIGINAL-URL:https://thevillagerny.com
X-WR-CALDESC:Events for The Villager
REFRESH-INTERVAL;VALUE=DURATION:PT1H
X-Robots-Tag:noindex
X-PUBLISHED-TTL:PT1H
BEGIN:VTIMEZONE
TZID:America/New_York
BEGIN:DAYLIGHT
TZOFFSETFROM:-0500
TZOFFSETTO:-0400
TZNAME:EDT
DTSTART:19690427T070000
END:DAYLIGHT
BEGIN:STANDARD
TZOFFSETFROM:-0400
TZOFFSETTO:-0500
TZNAME:EST
DTSTART:19691026T060000
END:STANDARD
BEGIN:DAYLIGHT
TZOFFSETFROM:-0500
TZOFFSETTO:-0400
TZNAME:EDT
DTSTART:19700426T070000
END:DAYLIGHT
BEGIN:STANDARD
TZOFFSETFROM:-0400
TZOFFSETTO:-0500
TZNAME:EST
DTSTART:19701025T060000
END:STANDARD
BEGIN:DAYLIGHT
TZOFFSETFROM:-0500
TZOFFSETTO:-0400
TZNAME:EDT
DTSTART:19710425T070000
END:DAYLIGHT
BEGIN:STANDARD
TZOFFSETFROM:-0400
TZOFFSETTO:-0500
TZNAME:EST
DTSTART:19711031T060000
END:STANDARD
BEGIN:DAYLIGHT
TZOFFSETFROM:-0500
TZOFFSETTO:-0400
TZNAME:EDT
DTSTART:19720430T070000
END:DAYLIGHT
BEGIN:STANDARD
TZOFFSETFROM:-0400
TZOFFSETTO:-0500
TZNAME:EST
DTSTART:19721029T060000
END:STANDARD
BEGIN:DAYLIGHT
TZOFFSETFROM:-0500
TZOFFSETTO:-0400
TZNAME:EDT
DTSTART:19730429T070000
END:DAYLIGHT
BEGIN:STANDARD
TZOFFSETFROM:-0400
TZOFFSETTO:-0500
TZNAME:EST
DTSTART:19731028T060000
END:STANDARD
BEGIN:DAYLIGHT
TZOFFSETFROM:-0500
TZOFFSETTO:-0400
TZNAME:EDT
DTSTART:19740106T070000
END:DAYLIGHT
BEGIN:STANDARD
TZOFFSETFROM:-0400
TZOFFSETTO:-0500
TZNAME:EST
DTSTART:19741027T060000
END:STANDARD
BEGIN:DAYLIGHT
TZOFFSETFROM:-0500
TZOFFSETTO:-0400
TZNAME:EDT
DTSTART:19750223T070000
END:DAYLIGHT
BEGIN:STANDARD
TZOFFSETFROM:-0400
TZOFFSETTO:-0500
TZNAME:EST
DTSTART:19751026T060000
END:STANDARD
BEGIN:DAYLIGHT
TZOFFSETFROM:-0500
TZOFFSETTO:-0400
TZNAME:EDT
DTSTART:19760425T070000
END:DAYLIGHT
BEGIN:STANDARD
TZOFFSETFROM:-0400
TZOFFSETTO:-0500
TZNAME:EST
DTSTART:19761031T060000
END:STANDARD
BEGIN:DAYLIGHT
TZOFFSETFROM:-0500
TZOFFSETTO:-0400
TZNAME:EDT
DTSTART:19770424T070000
END:DAYLIGHT
BEGIN:STANDARD
TZOFFSETFROM:-0400
TZOFFSETTO:-0500
TZNAME:EST
DTSTART:19771030T060000
END:STANDARD
BEGIN:DAYLIGHT
TZOFFSETFROM:-0500
TZOFFSETTO:-0400
TZNAME:EDT
DTSTART:19780430T070000
END:DAYLIGHT
BEGIN:STANDARD
TZOFFSETFROM:-0400
TZOFFSETTO:-0500
TZNAME:EST
DTSTART:19781029T060000
END:STANDARD
BEGIN:DAYLIGHT
TZOFFSETFROM:-0500
TZOFFSETTO:-0400
TZNAME:EDT
DTSTART:19790429T070000
END:DAYLIGHT
BEGIN:STANDARD
TZOFFSETFROM:-0400
TZOFFSETTO:-0500
TZNAME:EST
DTSTART:19791028T060000
END:STANDARD
BEGIN:DAYLIGHT
TZOFFSETFROM:-0500
TZOFFSETTO:-0400
TZNAME:EDT
DTSTART:19800427T070000
END:DAYLIGHT
BEGIN:STANDARD
TZOFFSETFROM:-0400
TZOFFSETTO:-0500
TZNAME:EST
DTSTART:19801026T060000
END:STANDARD
BEGIN:DAYLIGHT
TZOFFSETFROM:-0500
TZOFFSETTO:-0400
TZNAME:EDT
DTSTART:19810426T070000
END:DAYLIGHT
BEGIN:STANDARD
TZOFFSETFROM:-0400
TZOFFSETTO:-0500
TZNAME:EST
DTSTART:19811025T060000
END:STANDARD
BEGIN:DAYLIGHT
TZOFFSETFROM:-0500
TZOFFSETTO:-0400
TZNAME:EDT
DTSTART:19820425T070000
END:DAYLIGHT
BEGIN:STANDARD
TZOFFSETFROM:-0400
TZOFFSETTO:-0500
TZNAME:EST
DTSTART:19821031T060000
END:STANDARD
BEGIN:DAYLIGHT
TZOFFSETFROM:-0500
TZOFFSETTO:-0400
TZNAME:EDT
DTSTART:19830424T070000
END:DAYLIGHT
BEGIN:STANDARD
TZOFFSETFROM:-0400
TZOFFSETTO:-0500
TZNAME:EST
DTSTART:19831030T060000
END:STANDARD
BEGIN:DAYLIGHT
TZOFFSETFROM:-0500
TZOFFSETTO:-0400
TZNAME:EDT
DTSTART:19840429T070000
END:DAYLIGHT
BEGIN:STANDARD
TZOFFSETFROM:-0400
TZOFFSETTO:-0500
TZNAME:EST
DTSTART:19841028T060000
END:STANDARD
BEGIN:DAYLIGHT
TZOFFSETFROM:-0500
TZOFFSETTO:-0400
TZNAME:EDT
DTSTART:19850428T070000
END:DAYLIGHT
BEGIN:STANDARD
TZOFFSETFROM:-0400
TZOFFSETTO:-0500
TZNAME:EST
DTSTART:19851027T060000
END:STANDARD
BEGIN:DAYLIGHT
TZOFFSETFROM:-0500
TZOFFSETTO:-0400
TZNAME:EDT
DTSTART:19860427T070000
END:DAYLIGHT
BEGIN:STANDARD
TZOFFSETFROM:-0400
TZOFFSETTO:-0500
TZNAME:EST
DTSTART:19861026T060000
END:STANDARD
BEGIN:DAYLIGHT
TZOFFSETFROM:-0500
TZOFFSETTO:-0400
TZNAME:EDT
DTSTART:19870405T070000
END:DAYLIGHT
BEGIN:STANDARD
TZOFFSETFROM:-0400
TZOFFSETTO:-0500
TZNAME:EST
DTSTART:19871025T060000
END:STANDARD
BEGIN:DAYLIGHT
TZOFFSETFROM:-0500
TZOFFSETTO:-0400
TZNAME:EDT
DTSTART:19880403T070000
END:DAYLIGHT
BEGIN:STANDARD
TZOFFSETFROM:-0400
TZOFFSETTO:-0500
TZNAME:EST
DTSTART:19881030T060000
END:STANDARD
BEGIN:DAYLIGHT
TZOFFSETFROM:-0500
TZOFFSETTO:-0400
TZNAME:EDT
DTSTART:19890402T070000
END:DAYLIGHT
BEGIN:STANDARD
TZOFFSETFROM:-0400
TZOFFSETTO:-0500
TZNAME:EST
DTSTART:19891029T060000
END:STANDARD
BEGIN:DAYLIGHT
TZOFFSETFROM:-0500
TZOFFSETTO:-0400
TZNAME:EDT
DTSTART:19900401T070000
END:DAYLIGHT
BEGIN:STANDARD
TZOFFSETFROM:-0400
TZOFFSETTO:-0500
TZNAME:EST
DTSTART:19901028T060000
END:STANDARD
BEGIN:DAYLIGHT
TZOFFSETFROM:-0500
TZOFFSETTO:-0400
TZNAME:EDT
DTSTART:19910407T070000
END:DAYLIGHT
BEGIN:STANDARD
TZOFFSETFROM:-0400
TZOFFSETTO:-0500
TZNAME:EST
DTSTART:19911027T060000
END:STANDARD
BEGIN:DAYLIGHT
TZOFFSETFROM:-0500
TZOFFSETTO:-0400
TZNAME:EDT
DTSTART:19920405T070000
END:DAYLIGHT
BEGIN:STANDARD
TZOFFSETFROM:-0400
TZOFFSETTO:-0500
TZNAME:EST
DTSTART:19921025T060000
END:STANDARD
BEGIN:DAYLIGHT
TZOFFSETFROM:-0500
TZOFFSETTO:-0400
TZNAME:EDT
DTSTART:19930404T070000
END:DAYLIGHT
BEGIN:STANDARD
TZOFFSETFROM:-0400
TZOFFSETTO:-0500
TZNAME:EST
DTSTART:19931031T060000
END:STANDARD
BEGIN:DAYLIGHT
TZOFFSETFROM:-0500
TZOFFSETTO:-0400
TZNAME:EDT
DTSTART:19940403T070000
END:DAYLIGHT
BEGIN:STANDARD
TZOFFSETFROM:-0400
TZOFFSETTO:-0500
TZNAME:EST
DTSTART:19941030T060000
END:STANDARD
BEGIN:DAYLIGHT
TZOFFSETFROM:-0500
TZOFFSETTO:-0400
TZNAME:EDT
DTSTART:19950402T070000
END:DAYLIGHT
BEGIN:STANDARD
TZOFFSETFROM:-0400
TZOFFSETTO:-0500
TZNAME:EST
DTSTART:19951029T060000
END:STANDARD
BEGIN:DAYLIGHT
TZOFFSETFROM:-0500
TZOFFSETTO:-0400
TZNAME:EDT
DTSTART:19960407T070000
END:DAYLIGHT
BEGIN:STANDARD
TZOFFSETFROM:-0400
TZOFFSETTO:-0500
TZNAME:EST
DTSTART:19961027T060000
END:STANDARD
BEGIN:DAYLIGHT
TZOFFSETFROM:-0500
TZOFFSETTO:-0400
TZNAME:EDT
DTSTART:19970406T070000
END:DAYLIGHT
BEGIN:STANDARD
TZOFFSETFROM:-0400
TZOFFSETTO:-0500
TZNAME:EST
DTSTART:19971026T060000
END:STANDARD
BEGIN:DAYLIGHT
TZOFFSETFROM:-0500
TZOFFSETTO:-0400
TZNAME:EDT
DTSTART:19980405T070000
END:DAYLIGHT
BEGIN:STANDARD
TZOFFSETFROM:-0400
TZOFFSETTO:-0500
TZNAME:EST
DTSTART:19981025T060000
END:STANDARD
BEGIN:DAYLIGHT
TZOFFSETFROM:-0500
TZOFFSETTO:-0400
TZNAME:EDT
DTSTART:19990404T070000
END:DAYLIGHT
BEGIN:STANDARD
TZOFFSETFROM:-0400
TZOFFSETTO:-0500
TZNAME:EST
DTSTART:19991031T060000
END:STANDARD
BEGIN:DAYLIGHT
TZOFFSETFROM:-0500
TZOFFSETTO:-0400
TZNAME:EDT
DTSTART:20000402T070000
END:DAYLIGHT
BEGIN:STANDARD
TZOFFSETFROM:-0400
TZOFFSETTO:-0500
TZNAME:EST
DTSTART:20001029T060000
END:STANDARD
BEGIN:DAYLIGHT
TZOFFSETFROM:-0500
TZOFFSETTO:-0400
TZNAME:EDT
DTSTART:20010401T070000
END:DAYLIGHT
BEGIN:STANDARD
TZOFFSETFROM:-0400
TZOFFSETTO:-0500
TZNAME:EST
DTSTART:20011028T060000
END:STANDARD
BEGIN:DAYLIGHT
TZOFFSETFROM:-0500
TZOFFSETTO:-0400
TZNAME:EDT
DTSTART:20020407T070000
END:DAYLIGHT
BEGIN:STANDARD
TZOFFSETFROM:-0400
TZOFFSETTO:-0500
TZNAME:EST
DTSTART:20021027T060000
END:STANDARD
BEGIN:DAYLIGHT
TZOFFSETFROM:-0500
TZOFFSETTO:-0400
TZNAME:EDT
DTSTART:20030406T070000
END:DAYLIGHT
BEGIN:STANDARD
TZOFFSETFROM:-0400
TZOFFSETTO:-0500
TZNAME:EST
DTSTART:20031026T060000
END:STANDARD
BEGIN:DAYLIGHT
TZOFFSETFROM:-0500
TZOFFSETTO:-0400
TZNAME:EDT
DTSTART:20040404T070000
END:DAYLIGHT
BEGIN:STANDARD
TZOFFSETFROM:-0400
TZOFFSETTO:-0500
TZNAME:EST
DTSTART:20041031T060000
END:STANDARD
BEGIN:DAYLIGHT
TZOFFSETFROM:-0500
TZOFFSETTO:-0400
TZNAME:EDT
DTSTART:20050403T070000
END:DAYLIGHT
BEGIN:STANDARD
TZOFFSETFROM:-0400
TZOFFSETTO:-0500
TZNAME:EST
DTSTART:20051030T060000
END:STANDARD
BEGIN:DAYLIGHT
TZOFFSETFROM:-0500
TZOFFSETTO:-0400
TZNAME:EDT
DTSTART:20060402T070000
END:DAYLIGHT
BEGIN:STANDARD
TZOFFSETFROM:-0400
TZOFFSETTO:-0500
TZNAME:EST
DTSTART:20061029T060000
END:STANDARD
BEGIN:DAYLIGHT
TZOFFSETFROM:-0500
TZOFFSETTO:-0400
TZNAME:EDT
DTSTART:20070311T070000
END:DAYLIGHT
BEGIN:STANDARD
TZOFFSETFROM:-0400
TZOFFSETTO:-0500
TZNAME:EST
DTSTART:20071104T060000
END:STANDARD
BEGIN:DAYLIGHT
TZOFFSETFROM:-0500
TZOFFSETTO:-0400
TZNAME:EDT
DTSTART:20080309T070000
END:DAYLIGHT
BEGIN:STANDARD
TZOFFSETFROM:-0400
TZOFFSETTO:-0500
TZNAME:EST
DTSTART:20081102T060000
END:STANDARD
BEGIN:DAYLIGHT
TZOFFSETFROM:-0500
TZOFFSETTO:-0400
TZNAME:EDT
DTSTART:20090308T070000
END:DAYLIGHT
BEGIN:STANDARD
TZOFFSETFROM:-0400
TZOFFSETTO:-0500
TZNAME:EST
DTSTART:20091101T060000
END:STANDARD
BEGIN:DAYLIGHT
TZOFFSETFROM:-0500
TZOFFSETTO:-0400
TZNAME:EDT
DTSTART:20100314T070000
END:DAYLIGHT
BEGIN:STANDARD
TZOFFSETFROM:-0400
TZOFFSETTO:-0500
TZNAME:EST
DTSTART:20101107T060000
END:STANDARD
BEGIN:DAYLIGHT
TZOFFSETFROM:-0500
TZOFFSETTO:-0400
TZNAME:EDT
DTSTART:20110313T070000
END:DAYLIGHT
BEGIN:STANDARD
TZOFFSETFROM:-0400
TZOFFSETTO:-0500
TZNAME:EST
DTSTART:20111106T060000
END:STANDARD
BEGIN:DAYLIGHT
TZOFFSETFROM:-0500
TZOFFSETTO:-0400
TZNAME:EDT
DTSTART:20120311T070000
END:DAYLIGHT
BEGIN:STANDARD
TZOFFSETFROM:-0400
TZOFFSETTO:-0500
TZNAME:EST
DTSTART:20121104T060000
END:STANDARD
BEGIN:DAYLIGHT
TZOFFSETFROM:-0500
TZOFFSETTO:-0400
TZNAME:EDT
DTSTART:20130310T070000
END:DAYLIGHT
BEGIN:STANDARD
TZOFFSETFROM:-0400
TZOFFSETTO:-0500
TZNAME:EST
DTSTART:20131103T060000
END:STANDARD
BEGIN:DAYLIGHT
TZOFFSETFROM:-0500
TZOFFSETTO:-0400
TZNAME:EDT
DTSTART:20140309T070000
END:DAYLIGHT
BEGIN:STANDARD
TZOFFSETFROM:-0400
TZOFFSETTO:-0500
TZNAME:EST
DTSTART:20141102T060000
END:STANDARD
BEGIN:DAYLIGHT
TZOFFSETFROM:-0500
TZOFFSETTO:-0400
TZNAME:EDT
DTSTART:20150308T070000
END:DAYLIGHT
BEGIN:STANDARD
TZOFFSETFROM:-0400
TZOFFSETTO:-0500
TZNAME:EST
DTSTART:20151101T060000
END:STANDARD
BEGIN:DAYLIGHT
TZOFFSETFROM:-0500
TZOFFSETTO:-0400
TZNAME:EDT
DTSTART:20160313T070000
END:DAYLIGHT
BEGIN:STANDARD
TZOFFSETFROM:-0400
TZOFFSETTO:-0500
TZNAME:EST
DTSTART:20161106T060000
END:STANDARD
BEGIN:DAYLIGHT
TZOFFSETFROM:-0500
TZOFFSETTO:-0400
TZNAME:EDT
DTSTART:20170312T070000
END:DAYLIGHT
BEGIN:STANDARD
TZOFFSETFROM:-0400
TZOFFSETTO:-0500
TZNAME:EST
DTSTART:20171105T060000
END:STANDARD
BEGIN:DAYLIGHT
TZOFFSETFROM:-0500
TZOFFSETTO:-0400
TZNAME:EDT
DTSTART:20180311T070000
END:DAYLIGHT
BEGIN:STANDARD
TZOFFSETFROM:-0400
TZOFFSETTO:-0500
TZNAME:EST
DTSTART:20181104T060000
END:STANDARD
BEGIN:DAYLIGHT
TZOFFSETFROM:-0500
TZOFFSETTO:-0400
TZNAME:EDT
DTSTART:20190310T070000
END:DAYLIGHT
BEGIN:STANDARD
TZOFFSETFROM:-0400
TZOFFSETTO:-0500
TZNAME:EST
DTSTART:20191103T060000
END:STANDARD
BEGIN:DAYLIGHT
TZOFFSETFROM:-0500
TZOFFSETTO:-0400
TZNAME:EDT
DTSTART:20200308T070000
END:DAYLIGHT
BEGIN:STANDARD
TZOFFSETFROM:-0400
TZOFFSETTO:-0500
TZNAME:EST
DTSTART:20201101T060000
END:STANDARD
BEGIN:DAYLIGHT
TZOFFSETFROM:-0500
TZOFFSETTO:-0400
TZNAME:EDT
DTSTART:20210314T070000
END:DAYLIGHT
BEGIN:STANDARD
TZOFFSETFROM:-0400
TZOFFSETTO:-0500
TZNAME:EST
DTSTART:20211107T060000
END:STANDARD
BEGIN:DAYLIGHT
TZOFFSETFROM:-0500
TZOFFSETTO:-0400
TZNAME:EDT
DTSTART:20220313T070000
END:DAYLIGHT
BEGIN:STANDARD
TZOFFSETFROM:-0400
TZOFFSETTO:-0500
TZNAME:EST
DTSTART:20221106T060000
END:STANDARD
BEGIN:DAYLIGHT
TZOFFSETFROM:-0500
TZOFFSETTO:-0400
TZNAME:EDT
DTSTART:20230312T070000
END:DAYLIGHT
BEGIN:STANDARD
TZOFFSETFROM:-0400
TZOFFSETTO:-0500
TZNAME:EST
DTSTART:20231105T060000
END:STANDARD
BEGIN:DAYLIGHT
TZOFFSETFROM:-0500
TZOFFSETTO:-0400
TZNAME:EDT
DTSTART:20240310T070000
END:DAYLIGHT
BEGIN:STANDARD
TZOFFSETFROM:-0400
TZOFFSETTO:-0500
TZNAME:EST
DTSTART:20241103T060000
END:STANDARD
BEGIN:DAYLIGHT
TZOFFSETFROM:-0500
TZOFFSETTO:-0400
TZNAME:EDT
DTSTART:20250309T070000
END:DAYLIGHT
BEGIN:STANDARD
TZOFFSETFROM:-0400
TZOFFSETTO:-0500
TZNAME:EST
DTSTART:20251102T060000
END:STANDARD
BEGIN:DAYLIGHT
TZOFFSETFROM:-0500
TZOFFSETTO:-0400
TZNAME:EDT
DTSTART:20260308T070000
END:DAYLIGHT
BEGIN:STANDARD
TZOFFSETFROM:-0400
TZOFFSETTO:-0500
TZNAME:EST
DTSTART:20261101T060000
END:STANDARD
BEGIN:DAYLIGHT
TZOFFSETFROM:-0500
TZOFFSETTO:-0400
TZNAME:EDT
DTSTART:20270314T070000
END:DAYLIGHT
BEGIN:STANDARD
TZOFFSETFROM:-0400
TZOFFSETTO:-0500
TZNAME:EST
DTSTART:20271107T060000
END:STANDARD
END:VTIMEZONE
BEGIN:VEVENT
DTSTART;TZID=America/New_York:20260423T090916
DTEND;TZID=America/New_York:20260425T020000
DTSTAMP:20260423T090916
CREATED:20260422T113805Z
LAST-MODIFIED:20260422T113805Z
UID:29301-0-1777082400@thevillagerny.com
SUMMARY:DJ Kage
DESCRIPTION:
URL:https://thevillagerny.com/event/dj-kage-22/
LOCATION:Madigans\, 36 Washington Street\, Ellicottville\, New York
CATEGORIES:Music
ATTACH;FMTTYPE=image/jpeg:https://thevillagerny.com/wp-content/uploads/2022/02/madigans-logo.jpeg
END:VEVENT
BEGIN:VEVENT
DTSTART;TZID=America/New_York:20260423T190000
DTEND;TZID=America/New_York:20260423T220000
DTSTAMP:20260423T090916
CREATED:20260331T114711Z
LAST-MODIFIED:20260331T114711Z
UID:29040-1776970800-1776981600@thevillagerny.com
SUMMARY:Brian Rick
DESCRIPTION:
URL:https://thevillagerny.com/event/brian-rick-30/
LOCATION:gin mill
CATEGORIES:Music
ATTACH;FMTTYPE=image/jpeg:https://thevillagerny.com/wp-content/uploads/2022/02/ginMill-logo.jpeg
END:VEVENT
BEGIN:VEVENT
DTSTART;TZID=America/New_York:20260423T200000
DTEND;TZID=America/New_York:20260423T230000
DTSTAMP:20260423T090916
CREATED:20260401T132415Z
LAST-MODIFIED:20260401T132415Z
UID:29050-1776974400-1776985200@thevillagerny.com
SUMMARY:The Chillbillys
DESCRIPTION:
URL:https://thevillagerny.com/event/the-chillbillys-28/
LOCATION:gin mill
CATEGORIES:Music
ATTACH;FMTTYPE=image/jpeg:https://thevillagerny.com/wp-content/uploads/2022/02/ginMill-logo.jpeg
END:VEVENT
BEGIN:VEVENT
DTSTART;TZID=America/New_York:20260424T200000
DTEND;TZID=America/New_York:20260424T230000
DTSTAMP:20260423T090916
CREATED:20260401T132820Z
LAST-MODIFIED:20260401T132820Z
UID:29060-1777060800-1777071600@thevillagerny.com
SUMMARY:The Behner Boys
DESCRIPTION:
URL:https://thevillagerny.com/event/the-behner-boys-2/
LOCATION:gin mill
CATEGORIES:Music
ATTACH;FMTTYPE=image/jpeg:https://thevillagerny.com/wp-content/uploads/2022/02/ginMill-logo.jpeg
END:VEVENT
BEGIN:VEVENT
DTSTART;TZID=America/New_York:20260424T220000
DTEND;TZID=America/New_York:20260425T020000
DTSTAMP:20260423T090916
CREATED:20260331T112207Z
LAST-MODIFIED:20260331T112207Z
UID:29008-1777068000-1777082400@thevillagerny.com
SUMMARY:DJ KT Stylez
DESCRIPTION:
URL:https://thevillagerny.com/event/dj-kt-stylez-7/
LOCATION:Balloons
CATEGORIES:Music
ATTACH;FMTTYPE=image/jpeg:https://thevillagerny.com/wp-content/uploads/2023/03/Dj-KT-Stylez-4.jpg
END:VEVENT
BEGIN:VEVENT
DTSTART;TZID=America/New_York:20260425T140000
DTEND;TZID=America/New_York:20260425T170000
DTSTAMP:20260423T090916
CREATED:20260401T133531Z
LAST-MODIFIED:20260401T133531Z
UID:29068-1777125600-1777136400@thevillagerny.com
SUMMARY:The Chillbillys
DESCRIPTION:
URL:https://thevillagerny.com/event/the-chillbillys-29/
LOCATION:gin mill
CATEGORIES:Music
ATTACH;FMTTYPE=image/jpeg:https://thevillagerny.com/wp-content/uploads/2022/02/ginMill-logo.jpeg
END:VEVENT
BEGIN:VEVENT
DTSTART;TZID=America/New_York:20260425T183000
DTEND;TZID=America/New_York:20260425T220000
DTSTAMP:20260423T090916
CREATED:20260331T112245Z
LAST-MODIFIED:20260331T112245Z
UID:29011-1777141800-1777154400@thevillagerny.com
SUMMARY:The West Ends
DESCRIPTION:
URL:https://thevillagerny.com/event/the-west-ends/
LOCATION:Balloons
CATEGORIES:Music
ATTACH;FMTTYPE=image/png:https://thevillagerny.com/wp-content/uploads/2025/07/West-Ends.png
END:VEVENT
BEGIN:VEVENT
DTSTART;TZID=America/New_York:20260425T200000
DTEND;TZID=America/New_York:20260425T230000
DTSTAMP:20260423T090916
CREATED:20260401T133830Z
LAST-MODIFIED:20260401T133830Z
UID:29076-1777147200-1777158000@thevillagerny.com
SUMMARY:West
DESCRIPTION:
URL:https://thevillagerny.com/event/west-7/
LOCATION:gin mill
CATEGORIES:Music
ATTACH;FMTTYPE=image/jpeg:https://thevillagerny.com/wp-content/uploads/2022/02/ginMill-logo.jpeg
END:VEVENT
BEGIN:VEVENT
DTSTART;TZID=America/New_York:20260425T210000
DTEND;TZID=America/New_York:20260426T020000
DTSTAMP:20260423T090916
CREATED:20260422T113856Z
LAST-MODIFIED:20260422T113856Z
UID:29303-1777150800-1777168800@thevillagerny.com
SUMMARY:DJ Kage
DESCRIPTION:
URL:https://thevillagerny.com/event/dj-kage-23/
LOCATION:Madigans\, 36 Washington Street\, Ellicottville\, New York
CATEGORIES:Music
ATTACH;FMTTYPE=image/jpeg:https://thevillagerny.com/wp-content/uploads/2022/02/madigans-logo.jpeg
END:VEVENT
BEGIN:VEVENT
DTSTART;TZID=America/New_York:20260425T220000
DTEND;TZID=America/New_York:20260426T020000
DTSTAMP:20260423T090916
CREATED:20260331T112323Z
LAST-MODIFIED:20260331T112323Z
UID:29014-1777154400-1777168800@thevillagerny.com
SUMMARY:DJ Andre the Giant Redhead
DESCRIPTION:
URL:https://thevillagerny.com/event/dj-andre-the-giant-redhead-5/
LOCATION:Balloons
CATEGORIES:Music
ATTACH;FMTTYPE=image/jpeg:https://thevillagerny.com/wp-content/uploads/2022/04/DJ-Andre-the-Giant-1536x1536-1.jpg
END:VEVENT
BEGIN:VEVENT
DTSTART;TZID=America/New_York:20260426T140000
DTEND;TZID=America/New_York:20260426T170000
DTSTAMP:20260423T090916
CREATED:20260401T134103Z
LAST-MODIFIED:20260401T134103Z
UID:29083-1777212000-1777222800@thevillagerny.com
SUMMARY:The Hick-Ups
DESCRIPTION:
URL:https://thevillagerny.com/event/the-hick-ups-12/
LOCATION:gin mill
CATEGORIES:Music
ATTACH;FMTTYPE=image/jpeg:https://thevillagerny.com/wp-content/uploads/2022/02/ginMill-logo.jpeg
END:VEVENT
BEGIN:VEVENT
DTSTART;TZID=America/New_York:20260426T173000
DTEND;TZID=America/New_York:20260426T203000
DTSTAMP:20260423T090916
CREATED:20260422T114040Z
LAST-MODIFIED:20260422T114040Z
UID:29305-1777224600-1777235400@thevillagerny.com
SUMMARY:Girls of Grosh
DESCRIPTION:Villaggio hosts its weekly AYCE Pasta Night and Prime Rib Special from 5-9pm. Fresh\, made to order\, pasta with the sauce and topping of your choice or succulent prime rib made the way you like. This week’s musical hosts are the very talented Girls of Grosh from 5:39-8:30pm. The ladies play a rock/pop/alt/ cont/jazz set of covers and originals.
URL:https://thevillagerny.com/event/girls-of-grosh-2/
LOCATION:Villaggio
CATEGORIES:Music
ATTACH;FMTTYPE=image/png:https://thevillagerny.com/wp-content/uploads/2022/03/Villaggio-1.png
END:VEVENT
BEGIN:VEVENT
DTSTART;TZID=America/New_York:20260427T190000
DTEND;TZID=America/New_York:20260427T220000
DTSTAMP:20260423T090916
CREATED:20260331T113852Z
LAST-MODIFIED:20260331T113852Z
UID:29024-1777316400-1777327200@thevillagerny.com
SUMMARY:Red Gray
DESCRIPTION:
URL:https://thevillagerny.com/event/red-gray-10/
LOCATION:gin mill
CATEGORIES:Music
ATTACH;FMTTYPE=image/jpeg:https://thevillagerny.com/wp-content/uploads/2022/02/ginMill-logo.jpeg
END:VEVENT
BEGIN:VEVENT
DTSTART;TZID=America/New_York:20260430T190000
DTEND;TZID=America/New_York:20260430T220000
DTSTAMP:20260423T090916
CREATED:20260331T114744Z
LAST-MODIFIED:20260331T114744Z
UID:29042-1777575600-1777586400@thevillagerny.com
SUMMARY:Brian Rick
DESCRIPTION:
URL:https://thevillagerny.com/event/brian-rick-31/
LOCATION:gin mill
CATEGORIES:Music
ATTACH;FMTTYPE=image/jpeg:https://thevillagerny.com/wp-content/uploads/2022/02/ginMill-logo.jpeg
END:VEVENT
BEGIN:VEVENT
DTSTART;TZID=America/New_York:20260430T200000
DTEND;TZID=America/New_York:20260430T230000
DTSTAMP:20260423T090916
CREATED:20260401T132453Z
LAST-MODIFIED:20260401T132453Z
UID:29052-1777579200-1777590000@thevillagerny.com
SUMMARY:Kody & Herren
DESCRIPTION:
URL:https://thevillagerny.com/event/kody-herren-7/
LOCATION:gin mill
CATEGORIES:Music
ATTACH;FMTTYPE=image/jpeg:https://thevillagerny.com/wp-content/uploads/2022/02/ginMill-logo.jpeg
END:VEVENT
END:VCALENDAR